BEGIN:VCALENDAR
VERSION:2.0
PRODID:-//Lafayette String Quartet - ECPv4.0.5//NONSGML v1.0//EN
CALSCALE:GREGORIAN
METHOD:PUBLISH
X-WR-CALNAME:Lafayette String Quartet
X-ORIGINAL-URL:https://lafayettestringquartet.ca
X-WR-CALDESC:Events for Lafayette String Quartet
BEGIN:VEVENT
DTSTART;TZID="America/Vancouver":20221202T193000
DTEND;TZID="America/Vancouver":20221202T214000
DTSTAMP:20260421T125032
CREATED:20221129T211649
LAST-MODIFIED:20221129T211745
UID:2821-1670009400-1670017200@lafayettestringquartet.ca
SUMMARY:White Rock Concerts with James Campbell\, Clarinetist
DESCRIPTION:This remarkable concert series has a waitlist for attendance\, but it's worth getting on the list!\nProgram includes Mozart and Brahms Clarinet Quintets and the Vancouver area premier of Kelly-Marie Murphy's "For Fragile Personalities in Anxious Times" commissioned by the Lafayette String Quartet.\n\nDoors open at 7:00 and the concert begins at 7:30 PM Sharp.\n\n 
URL:https://lafayettestringquartet.ca/event/white-rock-concerts-with-james-campbell-clarinetist/
LOCATION:1657 140 Street\, Surrey\, BC\, Canada
GEO:49.032566;-122.83516
X-APPLE-STRUCTURED-LOCATION;VALUE=URI;X-ADDRESS=1657 140 Street Surrey BC Canada;X-APPLE-RADIUS=500;X-TITLE=1657 140 Street:geo:-122.83516,49.032566
CATEGORIES:Vancouver Concerts,BC Concerts,Final Concerts
END:VEVENT
END:VCALENDAR