BEGIN:VCALENDAR
VERSION:2.0
PRODID:-//Lafayette String Quartet - ECPv4.0.5//NONSGML v1.0//EN
CALSCALE:GREGORIAN
METHOD:PUBLISH
X-WR-CALNAME:Lafayette String Quartet
X-ORIGINAL-URL:https://lafayettestringquartet.ca
X-WR-CALDESC:Events for Lafayette String Quartet
BEGIN:VEVENT
DTSTART;VALUE=DATE:20220627
DTEND;VALUE=DATE:20220709
DTSTAMP:20260421T124243
CREATED:20220201
LAST-MODIFIED:20220624
UID:2655-1656288000-1657411199@lafayettestringquartet.ca
SUMMARY:Quartet Fest West 2022
DESCRIPTION:IMPORTANT INFORMATION! THE LSQ and GUESTS CONCERT SCHEDULED FOR JUNE 27th HAS BEEN CHANGED!! IT IS NOW TAKING PLACE ON JULY 5th!\nALL TICKETS PURCHASED WILL BE HONOURED.\n\nIf you are unable to attend the rescheduled concert on the 5th you can either use your ticket for another concert at QFW or we will refund you. Please let us know quartetfestwest@uvic.ca\n\nThe Lafayette String Quartet hosts Quartet Fest West 2022 on the gorgeous campus of the University of Victoria.\n\nGuest artists include the Skyros String Quartet (Seattle)\, Yariv Aloni\, viola\,  Singer/Songwriter/Drummer Nicole Mandrkyk\, Beth Sandvoss\, cello and Theresa Plotnick\, viola.\n\nPublic masterclasses will be announced soon.\n\nTickets are available on Eventbrite Quartet Fest West 2022
URL:https://lafayettestringquartet.ca/event/quartet-fest-west-2022/
LOCATION:MacLaurin Bldg\, University of Victoria\, Victoria\, BC\, V8P 5C2\, Canada
CATEGORIES:Victoria Series,QuartetFestWest
END:VEVENT
END:VCALENDAR