BEGIN:VCALENDAR
VERSION:2.0
PRODID:-//Lafayette String Quartet - ECPv4.0.5//NONSGML v1.0//EN
CALSCALE:GREGORIAN
METHOD:PUBLISH
X-WR-CALNAME:Lafayette String Quartet
X-ORIGINAL-URL:https://lafayettestringquartet.ca
X-WR-CALDESC:Events for Lafayette String Quartet
BEGIN:VEVENT
DTSTART;TZID="America/Vancouver":20230708T140000
DTEND;TZID="America/Vancouver":20230708T170000
DTSTAMP:20260419T213907
CREATED:20230509T213253
LAST-MODIFIED:20230516T163535
UID:2890-1688824800-1688835600@lafayettestringquartet.ca
SUMMARY:QFW '23 presents: Festival PARTICIPANTS' Concert
DESCRIPTION:Always a brilliant concert! Come to support the wonderfully talented young musicians who have spent the Festival honing their chamber music skills\, delving into some of the greatest music ever written!\n\nThis concert will take place at 2:00 PM in order that the students can celebrate with the audience after the performance. We hope that you will be able to join us all!\n\nIf you are able\, please purchase a FESTIVAL PASS\n\nWe are all so grateful for your continued support of the brilliant young musicians and live music in general! Get your tickets HERE
URL:https://lafayettestringquartet.ca/event/qfw-23-presents-festival-participants-concert/
LOCATION:MacLaurin Bldg\, University of Victoria\, Victoria\, BC\, V8P 5C2\, Canada
CATEGORIES:QuartetFestWest
END:VEVENT
END:VCALENDAR