BEGIN:VCALENDAR
VERSION:2.0
PRODID:-//Lafayette String Quartet - ECPv4.0.5//NONSGML v1.0//EN
CALSCALE:GREGORIAN
METHOD:PUBLISH
X-WR-CALNAME:Lafayette String Quartet
X-ORIGINAL-URL:https://lafayettestringquartet.ca
X-WR-CALDESC:Events for Lafayette String Quartet
BEGIN:VEVENT
DTSTART;VALUE=DATE:20220613
DTEND;VALUE=DATE:20220615
DTSTAMP:20260421T082646
CREATED:20220201
LAST-MODIFIED:20220201
UID:2648-1655078400-1655337599@lafayettestringquartet.ca
SUMMARY:PRISMA Guest artists and teachers
DESCRIPTION:The Lafayette String Quartet returns to Powell River to the PRISMA festival as guest artists from June 13-15\, 2022.
URL:https://lafayettestringquartet.ca/event/prisma-guest-artists-and-teachers/
LOCATION:Powell River\, BC\, Canada
CATEGORIES:BC Concerts
END:VEVENT
END:VCALENDAR