BEGIN:VCALENDAR
VERSION:2.0
PRODID:-//Lafayette String Quartet - ECPv4.0.5//NONSGML v1.0//EN
CALSCALE:GREGORIAN
METHOD:PUBLISH
X-WR-CALNAME:Lafayette String Quartet
X-ORIGINAL-URL:https://lafayettestringquartet.ca
X-WR-CALDESC:Events for Lafayette String Quartet
BEGIN:VEVENT
DTSTART;TZID="America/Vancouver":20230303T193000
DTEND;TZID="America/Vancouver":20230303T213000
DTSTAMP:20260424T033251
CREATED:20220826T214008
LAST-MODIFIED:20230225T205711
UID:2757-1677871800-1677879000@lafayettestringquartet.ca
SUMMARY:LSQ with Clayton Leung\, viola and the Alberta Premiere of Vivian Fung's latest quartet!  Canmore\, AB
DESCRIPTION:This exciting concert brings together the LSQ with UVIC Alumni violist Clayton Leung (Edmonton Symphony) for the exciting  Viola Quintet in B flat\, Op. 87 by Felix Mendelssohn. Canadian composer (and Edmonton native) Vivian Fung will be present as the LSQ gives the Alberta premiere of her Quartet No. 5 "SPIRALING". The LSQ will begin the program with the powerful Quartet No. 4 of Shostakovich. Shostakovich held back publishing or even allowing it to be performed for fear of the retribution he would receive...\n\nTickets now available here https://artsplacecanmore.com/whats-on/music-and-performance/lafayette1
URL:https://lafayettestringquartet.ca/event/lsq-with-clayton-leung-viola-and-the-alberta-premier-of-vivian-fungs-latest-quartetcanmore-ab/
LOCATION:950-8th Avenue\, Canmore\, AB\, T1W2T1\, Canada
CATEGORIES:Alberta Concerts
END:VEVENT
END:VCALENDAR