BEGIN:VCALENDAR
VERSION:2.0
PRODID:-//Lafayette String Quartet - ECPv4.0.5//NONSGML v1.0//EN
CALSCALE:GREGORIAN
METHOD:PUBLISH
X-WR-CALNAME:Lafayette String Quartet
X-ORIGINAL-URL:https://lafayettestringquartet.ca
X-WR-CALDESC:Events for Lafayette String Quartet
BEGIN:VEVENT
DTSTART;TZID="America/Vancouver":20221105T200000
DTEND;TZID="America/Vancouver":20221105T220000
DTSTAMP:20260425T231623
CREATED:20220726T161745
LAST-MODIFIED:20220726T161745
UID:2731-1667678400-1667685600@lafayettestringquartet.ca
SUMMARY:LSQ performs on Hornby Island
DESCRIPTION:The LSQ is delighted to return to Hornby Island and to be able to make music for this wonderful artistic community.\n\nThey will be performing the newly commissioned string quartet "All for One" by the Canadian composer Abigail Richardson-Schulte. Mozart's Quartet K. 589 in B flat and Borodin's Quartet No. 2 will also be performed.\n\nOther details TBA
URL:https://lafayettestringquartet.ca/event/lsq-performs-on-hornby-island/
LOCATION:Hornby Island\, Canada
CATEGORIES:BC Concerts
END:VEVENT
END:VCALENDAR