BEGIN:VCALENDAR
VERSION:2.0
PRODID:-//Lafayette String Quartet - ECPv4.0.5//NONSGML v1.0//EN
CALSCALE:GREGORIAN
METHOD:PUBLISH
X-WR-CALNAME:Lafayette String Quartet
X-ORIGINAL-URL:https://lafayettestringquartet.ca
X-WR-CALDESC:Events for Lafayette String Quartet
BEGIN:VEVENT
DTSTART;TZID="America/Vancouver":20230218T193000
DTEND;TZID="America/Vancouver":20230218T220000
DTSTAMP:20260424T001607
CREATED:20230111T173719
LAST-MODIFIED:20230111T212408
UID:2828-1676748600-1676757600@lafayettestringquartet.ca
SUMMARY:LSQ performs in Whitehorse\, Yukon
DESCRIPTION:The LSQ is thrilled to be returning to Whitehorse.\n\nTheir concert takes place at 7:30 in the Main Stage of the Yukon Arts Centre. There will be a pre-concert artists talk at 6:30 in the Studio Theatre of the YAC.\n\nProgram:\n\nShostakovich String Quartet No. 4\n\nVivian Fung "Spiraling" (Yukon Premiere!)\n\nBeethoven Op. 59\, No. 3 in C major\n\n 
URL:https://lafayettestringquartet.ca/event/lsq-performs-in-whitehorse-yukon-territories/
LOCATION:Whitehorse\, Yukon Terr\, Canada
END:VEVENT
END:VCALENDAR