BEGIN:VCALENDAR
VERSION:2.0
PRODID:-//Lafayette String Quartet - ECPv4.0.5//NONSGML v1.0//EN
CALSCALE:GREGORIAN
METHOD:PUBLISH
X-WR-CALNAME:Lafayette String Quartet
X-ORIGINAL-URL:https://lafayettestringquartet.ca
X-WR-CALDESC:Events for Lafayette String Quartet
BEGIN:VEVENT
DTSTART;TZID="America/Vancouver":20200206T200000
DTEND;TZID="America/Vancouver":20200206T220000
DTSTAMP:20260421T230314
CREATED:20191024T054738
LAST-MODIFIED:20191024T054823
UID:2463-1581019200-1581026400@lafayettestringquartet.ca
SUMMARY:LSQ at UVIC BEETHOVEN! Op. 59\, No. 1 in F\, Haydn Op. 54\, No. 2 and Ruth Crawford Quartet
DESCRIPTION:
URL:https://lafayettestringquartet.ca/event/lsq-at-uvic-beethoven-op-59-no-1-in-f-haydn-op-54-no-2-and-ruth-crawford-quartet/
LOCATION:MacLaurin Bldg\, University of Victoria\, Victoria\, BC\, V8P 5C2\, Canada
CATEGORIES:Victoria Series,BC Concerts,UVIC events
ORGANIZER;CN="University%20of%20Victoria%20School%20of%20Music":MAILTO:lafayettestringquartet@uvic.ca
END:VEVENT
END:VCALENDAR