BEGIN:VCALENDAR
VERSION:2.0
PRODID:-//Lafayette String Quartet - ECPv4.0.5//NONSGML v1.0//EN
CALSCALE:GREGORIAN
METHOD:PUBLISH
X-WR-CALNAME:Lafayette String Quartet
X-ORIGINAL-URL:https://lafayettestringquartet.ca
X-WR-CALDESC:Events for Lafayette String Quartet
BEGIN:VEVENT
DTSTART;TZID="America/Vancouver":20221023T140000
DTEND;TZID="America/Vancouver":20221023T160000
DTSTAMP:20260425T213404
CREATED:20220726T160928
LAST-MODIFIED:20220726T160928
UID:2730-1666533600-1666540800@lafayettestringquartet.ca
SUMMARY:LSQ and James Campbell in Pender Harbour
DESCRIPTION:The second concert of their visit to Pender Harbour features Borodin's beautiful Quartet No. 2\, De Falla's brilliant work for solo clarinet and closing with Mozart's joyful Clarinet Quintet.
URL:https://lafayettestringquartet.ca/event/lsq-and-james-campbell-in-pender-harbour/
LOCATION:12956 Madeira Park Road\, Madeira Park\, BC\, Canada
CATEGORIES:BC Concerts
END:VEVENT
END:VCALENDAR