BEGIN:VCALENDAR
VERSION:2.0
PRODID:-//Lafayette String Quartet - ECPv4.0.5//NONSGML v1.0//EN
CALSCALE:GREGORIAN
METHOD:PUBLISH
X-WR-CALNAME:Lafayette String Quartet
X-ORIGINAL-URL:https://lafayettestringquartet.ca
X-WR-CALDESC:Events for Lafayette String Quartet
BEGIN:VEVENT
DTSTART;TZID="America/Vancouver":20200202T143000
DTEND;TZID="America/Vancouver":20200202T170000
DTSTAMP:20260422T004643
CREATED:20191024T055137
LAST-MODIFIED:20191024T055137
UID:2464-1580653800-1580662800@lafayettestringquartet.ca
SUMMARY:Faculty Artists Concert LSQ performs with their colleagues; including works by Puccini\, Wolf and Prokofiev
DESCRIPTION:
URL:https://lafayettestringquartet.ca/event/faculty-artists-concert-lsq-performs-with-their-colleagues-including-works-by-puccini-wolf-and-prokofiev/
LOCATION:MacLaurin Bldg\, University of Victoria\, Victoria\, BC\, V8P 5C2\, Canada
CATEGORIES:Victoria Series,Vancouver Island Concerts,UVIC events
ORGANIZER;CN="University%20of%20Victoria%20School%20of%20Music":MAILTO:lafayettestringquartet@uvic.ca
END:VEVENT
END:VCALENDAR