BEGIN:VCALENDAR
VERSION:2.0
PRODID:-//Lafayette String Quartet - ECPv4.0.5//NONSGML v1.0//EN
CALSCALE:GREGORIAN
METHOD:PUBLISH
X-WR-CALNAME:Lafayette String Quartet
X-ORIGINAL-URL:https://lafayettestringquartet.ca
X-WR-CALDESC:Events for Lafayette String Quartet
BEGIN:VEVENT
DTSTART;VALUE=DATE:20201017
DTEND;VALUE=DATE:20201023
DTSTAMP:20260421T140007
CREATED:20190312
LAST-MODIFIED:20200513
UID:2307-1602892800-1603497599@lafayettestringquartet.ca
SUMMARY:*** POSTPONED*** DSCH (the Shostakovich Cycle) at the Banff Centre for the Arts
DESCRIPTION:Due to circumstances beyond the LSQ or the Presenters' control\, the DSCH cycle will have to be postponed until further notice. The schedule will be updated as soon as possible.\n\nThe LSQ performs the 15 quartets by Dmitri Shostakovich in five concerts between October 17-23\, 2020.
URL:https://lafayettestringquartet.ca/event/dsch-the-shostakovich-cycle-in-canmore-ab/
LOCATION:AB\, T1W2T1
CATEGORIES:Alberta Concerts,Shostakovich Cycle
END:VEVENT
END:VCALENDAR