BEGIN:VCALENDAR
VERSION:2.0
PRODID:-//Lafayette String Quartet - ECPv4.0.5//NONSGML v1.0//EN
CALSCALE:GREGORIAN
METHOD:PUBLISH
X-WR-CALNAME:Lafayette String Quartet
X-ORIGINAL-URL:https://lafayettestringquartet.ca
X-WR-CALDESC:Events for Lafayette String Quartet
BEGIN:VEVENT
DTSTART;VALUE=DATE:20220617
DTEND;VALUE=DATE:20220618
DTSTAMP:20260421T111800
CREATED:20220201
LAST-MODIFIED:20220601
UID:2653-1655424000-1655596799@lafayettestringquartet.ca
SUMMARY:Bury the Hatchet
DESCRIPTION:An Indigenous and People of Colour Cultural Performance about peacebuilding.\nOn Friday\, June 17 & Saturday\, June 18\, the Culture Den will present Bury the Hatchet\, a cultural offering of eight newly devised performances all dedicated to the restoration of our sacred humanity that lays sleeping under the bodies and psyches of our collective historical struggle with colonization across the world.\n\nThe Lafayette String Quartet is honoured to be a part of this production\, performing with Creative Artist\, Singer Songwriter and Drummer\, Nicole Mandryk in the newly commissioned work by Nicole and Composer Leila Lustig.\n\nSee the Belfry Theatre for more information.
URL:https://lafayettestringquartet.ca/event/bury-the-hatchet/
LOCATION:Victoria\, BC\, Canada
CATEGORIES:Victoria Series,Vancouver Island Concerts
END:VEVENT
END:VCALENDAR