BEGIN:VCALENDAR
VERSION:2.0
PRODID:-//Lafayette String Quartet - ECPv4.0.5//NONSGML v1.0//EN
CALSCALE:GREGORIAN
METHOD:PUBLISH
X-WR-CALNAME:Lafayette String Quartet
X-ORIGINAL-URL:https://lafayettestringquartet.ca
X-WR-CALDESC:Events for Lafayette String Quartet
BEGIN:VEVENT
DTSTART;TZID="America/Vancouver":20221121T140000
DTEND;TZID="America/Vancouver":20221121T153000
DTSTAMP:20260421T112138
CREATED:20220829T053509
LAST-MODIFIED:20220829T053509
UID:2790-1669039200-1669044600@lafayettestringquartet.ca
SUMMARY:Ann Arbor\, MI
DESCRIPTION:Returning to their old stomping grounds\, the LSQ is delighted to be performing for family and old friends. Public is welcome\, but seating will be limited.\n\nProgram will include selections from Mozart K 589\, Richardson-Schulte and Borodin 2.
URL:https://lafayettestringquartet.ca/event/ann-arbor-mi/
LOCATION:4600 All Seasons Circle \, Ann Arbor\,  48105\, United States
CATEGORIES:International Events,Final Concerts
END:VEVENT
END:VCALENDAR