BEGIN:VCALENDAR
VERSION:2.0
PRODID:-//Lafayette String Quartet - ECPv4.0.5//NONSGML v1.0//EN
CALSCALE:GREGORIAN
METHOD:PUBLISH
X-WR-CALNAME:Lafayette String Quartet
X-ORIGINAL-URL:https://lafayettestringquartet.ca
X-WR-CALDESC:Events for Lafayette String Quartet
BEGIN:VEVENT
DTSTART;TZID="America/Vancouver":20201216T170000
DTEND;TZID="America/Vancouver":20201216T180000
DTSTAMP:20260421T112418
CREATED:20201109T063124
LAST-MODIFIED:20201210T043613
UID:2577-1608138000-1608141600@lafayettestringquartet.ca
SUMMARY:A Crucible of Friendship: The Transformation of the String Quartet in the late 18th Century
DESCRIPTION:In partnership with the Kitchener Waterloo Chamber Music Society.\n\nProgramme II: Dec. 16  TWO Concerts  5:00 AND 7:30 PM\n\nMozart K. 464 in A Major  and  Beethoven Op. 18\, No 5 in A Major\n\n \n\nFollow the livestream: https://livestream.com/somlive\n\n 
URL:https://lafayettestringquartet.ca/event/a-crucible-of-friendship-the-legacy-of-haydn-mozart-and-beethoven-2020-12-16/
LOCATION:932 Balmoral Rd. (at Quadra)\, Victoria\, British Columbia\, V8T 1A8\, Canada
GEO:48.429087;-123.358226
X-APPLE-STRUCTURED-LOCATION;VALUE=URI;X-ADDRESS=932 Balmoral Rd. (at Quadra) Victoria British Columbia V8T 1A8 Canada;X-APPLE-RADIUS=500;X-TITLE=932 Balmoral Rd. (at Quadra):geo:-123.358226,48.429087
CATEGORIES:Victoria Series,BC Concerts,Vancouver Island Concerts,LIVESTREAMED
END:VEVENT
END:VCALENDAR