BEGIN:VCALENDAR
VERSION:2.0
PRODID:-//Lafayette String Quartet - ECPv4.0.5//NONSGML v1.0//EN
CALSCALE:GREGORIAN
METHOD:PUBLISH
X-WR-CALNAME:Lafayette String Quartet
X-ORIGINAL-URL:https://lafayettestringquartet.ca
X-WR-CALDESC:Events for Lafayette String Quartet
BEGIN:VEVENT
DTSTART;TZID="America/Vancouver":20200731T200000
DTEND;TZID="America/Vancouver":20200731T220000
DTSTAMP:20260421T152121
CREATED:20191024T060357
LAST-MODIFIED:20200531T012741
UID:2465-1596225600-1596232800@lafayettestringquartet.ca
SUMMARY:POSTPONED DUE TO COVID-19.  50th anniversary of Earth Day "Crucifixion of the Earth" the Seven Last Words by Joseph Haydn with Jan Zwicky and Robert Bringhurst
DESCRIPTION:Haydn’s Seven Last Words: Crucifixion of the Earth\n\nThe Lafayette String Quartet is joined by renowned Canadian poets Robert Bringhurst and Jan Zwicky in an updated version of this classic work for string quartet.\n\nIn its original version\, Christ’s seven last utterances served as the basis for seven sermons alternating with Haydn’s deeply introspective music. Bringhurst and Zwicky have created new texts* that extend the theme of crucifixion to focus on environmental destruction: what humans have done to the Earth\, rather than on what humans have done to the divine in human form. The challenge has been to respond to the sweetness and generosity in Haydn’s music\, as well as to the terror\, grief\, and anger that many of us feel.\n\n*These texts were first written for a performance produced and initiated by Early Music Vancouver.
URL:https://lafayettestringquartet.ca/event/50th-anniversary-of-earth-day-crucifixion-of-the-earth-the-seven-last-words-by-joseph-haydn-with-jan-zwicky-and-robert-bringhurst/
LOCATION:MacLaurin Bldg\, University of Victoria\, Victoria\, BC\, V8P 5C2\, Canada
ORGANIZER;CN="University%20of%20Victoria%20School%20of%20Music":MAILTO:lafayettestringquartet@uvic.ca
END:VEVENT
END:VCALENDAR